Workbook

Sheet Титульний лист та зміст
B2: ФОРМА ДЛЯ БІЗНЕС-ПЛАНУ
B4: Бізнес-план заснування пасіки
B6: Цей бізнес-план розроблено як зразок для створення стаціонарної пасіки в умовах Полісся
B7: Форма бізнес-плану дозволяє змінювати вхідну інформацію за бажанням і отримувати зміну бізнес-плану автоматично. Для цього в окремі комірки вбудовані формули, які захищені. Відповідні комірки виділені сірим кольором. Комірки, в які можна вносити власні дані, виділені жовтим кольором. Комірки, до яких інформація підтягується автоматично також виділені сірим кольором.
B9: Структура бізнес-плану
F10: В цьому розділі стисло наводяться основна інформація та показники з кожного розділу бізнес-плану.
B11: Резюме
B13: Профіль бізнесу | F13: В розділі міститься загальна інформація про підприємця, його досвід, економічну та соціальну мету створення пасіки, а також описується локація, з точки зору її придатності для ведення бджільництва
B15: Маркетинговий план | F15: Розділ містить інформацію щодо продукції пасіки, заплановані обсяги її виробництва, прогнозовану ціну, дається огляд ринку збуту продукції, наявність конкурентів. Особлива увага приділяється вимогам щодо пакування, маркування, підтвердження якості. В розділі також зазначаються наміри підприємця щодо створення власного бренду (логотипу, назви) на продукцію пасіки (якщо передбачається). Описується логістика постачання продукції до клієнтів.
B17: Організаційний план | F17: Розділ присвячено питанням орагнізації підприємницьвої діяльності, реєстрації ФОП (якщо передбачено), отримання необхідних дозволів тощо.
B19: Виробничий план | F19: В цій частині описується технологія утримання бджіл та необхідні витрати, повʼязані з започаткуванням та веденням виробництва.
B21: Фінансовий план | F21: Розділ узагальнює інформацію по витратам та доходам підприємницьвої діяльності протягом року від початку заснування та містить розрахунки основних економічних показників: собівартість продукції, точка беззбиткового виробництва, рентабільність діяльності, окупність інвестицій.
B23: Рух грошових коштів | F23: Розділ відображає надходження і витрати грошових коштів бізнесу в часі та дозволяє оцінити фактичний грошовий баланс. Його основна роль — показати, чи має бізнес достатньо коштів для покриття витрат у кожному періоді
B25: Соціальний та екологічний вплив | F25: В цій частині описують соціальний вплив бізнесу та вплив на навколишнє середовище. Він може бути як сприятливий так і не сприятливий. Якщо вплив, який завдає бізнес потенційно може спричинити негативні наслідки, потрібно описати, як їх можна мінімізувати або уникнути.
B26: Управління ризиками | F26: В розділі описуються основні ризики для ведення підприємництва в бджільництві та заходи, якеі можуть застосувати підприємці для зменшення негативного впливу, або уникнення ризиків.

Sheet Резюме проєкту
B2: Резюме проєкту
B4: Увага! На цій сторінці всі рядки заповнюються автоматично, підтягуючи інформацію з інших розділів. Вам потрібно заповнити лише комірки, виділені жовтим кольором.
B6: Профіль бізнесу
B7: Прізвище та імʼя власника чи власниці бізнесу | C7: {='Профіль бізнесу'!F4:L4}
B8: Назва проєкту (пасіки) | C8: {='Профіль бізнесу'!F6:L6}
B9: Адреса проживання власника чи власниці бізнесу | C9: {='Профіль бізнесу'!F7:L7}
B10: Контактний номер телефону | C10: {='Профіль бізнесу'!F8:L8}
B11: Адреса розміщення пасіки | C11: {='Профіль бізнесу'!F9:L9}
B12: Площа земельної ділянки, на якій розміщена пасіка, га | C12: ='Профіль бізнесу'!F10
B13: Право власності чи користування на правах оренди на земельну ділянку | C13: {='Профіль бізнесу'!F11:L11}
B14: Кількість вуликів | C14: {='Профіль бізнесу'!F13:L13}
B15: Форма підприємництва | C15: {='Організаційний план'!B13:E13}
B16: Маркетинговий план
B17: Продукція пасіки для реалізації (види продукції) | C17: {='Маркетинговий план та доходи'!B7:D7}
B18: Кількість продукції для реалізації, кг | C18: {='Маркетинговий план та доходи'!B13:E13}
B19: Ринок збуту | C19: {='Маркетинговий план та доходи'!C26:D26}
B20: Активний сезон продажу продукції, місяці | C20: {='Маркетинговий план та доходи'!C27:D27}
B21: Дохід від реалізації основної продукції, грн. | C21: ='Маркетинговий план та доходи'!E38 -> 0
B23: Інвестиції
B24: Вартість стартового капіталу, грн. | C24: ='Виробничий план та витрати'!E53 -> 0
B25: Основні засоби, які планується придбати (заповнити)
B26: Активи для бізнесу, які вже є в наявності
B27: Джерела фінансування, грн.: | C27: =C24 -> 0
B28: власні кошти
B29: кредити
B30: грантова допомога
B31: інші
B32: Економіка
B33: Собівартість продукції, грн. | C33: {='Виробничий план та витрати'!C82:E82} -> #DIV/0!
B34: Точка беззбитковості, кг | C34: {='Виробничий план та витрати'!C83:E83} -> #DIV/0!
B35: Прибуток за рік, грн. | C35: {='Фінансовий план'!E10:F10} -> 0
B36: Рентабельність виробництва, % | C36: {='Фінансовий план'!E11:F11} -> #DIV/0!
B37: Окупність інвестицій, роки | C37: {='Фінансовий план'!E12:F12} -> #DIV/0!
B39: Соціальний ефект проєкту
B40: Вплив на громаду | C40: ='Соціальний вплив'!C7
C41: ='Соціальний вплив'!D7
B42: Вплив на вразливі категорії | C42: ='Соціальний вплив'!C8
C43: ='Соціальний вплив'!D8
B44: Вплив на екологію | C44: ='Соціальний вплив'!C9
C45: ='Соціальний вплив'!D9
...

Sheet Профіль бізнесу
B2: Профіль бізнесу
B3: Увага! На цій сторінці необхідно заповнити комірки, виділені жовтим кольором.
B4: Прізвище та імʼя власника чи власниці бізнесу
B5: Дата народження
B6: Назва пасіки (за бажанням)
B7: Адреса проживання власника чи власниці бізнесу
B8: Контактний номер телефону
B9: Адреса розміщення пасіки
B10: Площа земельної ділянки, на якій буде розміщена стаціонарна пасіка, га
B11: Вкажіть, на якій підставі власник чи власниця бізнесу будуть користуватися земельною ділянкою (право власності або оренда)
B12: Чи є на земельній ділянці або поблизу неї приміщення, яке можна використати для потреб пасіки? Якщо так, вкажіть його площу , м2
B13: Яку кількість вуликів планується встановити на перший рік роботи пасіки?
... B22: Чи маєте ви досвід залучення грантових ресурсів для розвитку підприємництва? Якщо так, опишіть.

Sheet Маркетинговий план та доходи
B2: Маркетинговий план
B3: Маркетинговий план має містити детальний опис продукції пасіки, її характеристики, ринок та канали збуту, план доходів. Заповніть всі комірки, виділені жовтим кольором
B4: Продукція пасіки
B5: Продукція пасіки зазвичай складаєтьс з меду та додаткових продуктів бджільництва: віск, бджолина обніжка, прополіс, маточне молочко. Також можна продавати бджолосімʼї, надавати послуги запилення, апітерапії, започаткувати зелений туризм, проводити майстер-класи тощо. Проте, перший рік після започаткування справи варто більше уваги приділити розвитку самої пасіки і зосередитися на основному продукті - меді. Особливо, якщо пасічник лише починає власну справу і потребує досвіду.
B6: Напишіть, якою буде продукція вашої пасіки в перший рік від заснування. Дайте характеристику меду відповідно до медоносів, які знаходяться поряд з пасікою.
B9: Зазначте характеристики вашого меду, як товару: фасування, тара, наявність інших ознак, що характеризують продукцію.
B12: Яку кількість меду ви плануєте отримати і продати в перший рік, кг
B15: Ринок та клієнти
B16: Опишіть ринок, на який ви плануєте вийти та ваших потенційних клієнтів на цьому ринку
B18: Ринок | C18: Характеристика клієнтів (хто вони і чому будуть купувати ваш мед, яка частина продукції буде реалізована через цей канал)
B26: Назвіть свій основний канал збуту продукції
B27: В який період року ви плануєте продавати мед найбільш активно?
B29: План доходів
B30: Сплануйте доходи вашої пасіки за перший рік. За бажаням вкажіть всі види продукції та послуг, або врахуйте лише основний продукт - мед. Не забудьте про дикий мед від бортництва, якщо ви плануєте цим займатися
B32: Продукція - мед | C32: Кількість, кг | D32: Ціна, грн./кг | E32: Дохід, грн.
B33: Дикий мед | E33: =C33*D33 -> 0
E34: =C34*D34 -> 0
E35: =C35*D35 -> 0
E36: =C36*D36 -> 0
E37: =C37*D37 -> 0
B38: Разом: | C38: =SUM(C34:C37) -> 0 | D38: =(E33+E34+E35+E36+E37)/C38 -> #DIV/0! | E38: =SUM(E34:E37) -> 0
B40: Увага! Для ціни вказано середньозважене значення за рік. Для кількості продукції та доходу - сума за рік.
B42: Інші види продукції за рік | C42: Кількість, кг | D42: Ціна, грн./кг | E42: Дохід, грн.
E43: =C43*D43 -> 0
E44: =C44*D44 -> 0
E45: =C45*D45 -> 0
E46: =C46*D46 -> 0
E47: =C47*D47 -> 0
E48: =C48*D48 -> 0
B49: Разом: | C49: х | D49: х | E49: =SUM(E43:E48) -> 0

Sheet Організаційний план
B2: Організаційний план
B3: Заповніть всі комірки, виділені жовтим кольором
B4: Організація підприємницької діяльності
B5: Для організації підприємницької діяльності необхідно керуватись діючим законодавством та пройти певні етапи
B6: Отримання ветеринарно-санітарного паспорта на пасіку в місцевому відділенні Держспоживслужби. Вкажіть нижче адресу відповідного підрозділу Держспоживслужби за місцем розташування пасіки
B9: Реєстрація пасіки в органах місцевої влади. Вкажіть нижче адресу місцевого органу влади, який буде проводити реєстрацію - сільська, селищна або міська рада
B12: Якщо ви плануєте реєструватися як Фізична особа підприємець, вкажіть нижче яку групу ФОП ви оберете (2-га або 3-тя група ФОП). Якщо ви не плануєте реєструвати ФОП, зазначте - не планую реєстрацію.
B15: Чи плануєте ви реєстрацію виробничих потужностей? Вкажіть нижче так або ні

Sheet Виробничий план та витрати
B2: Виробничий план
B3: Заповніть всі комірки, виділені жовтим кольором
B4: Технологія виробництва
B5: Опишіть детально технологію, яку ви плануєте використовувати: стаціонарна, кочова пасіка, бортництво або їх комбінація. На якій території ви плануєте проводити медозбір?
B8: Який тип вуликів буде використовуватися?
B9: Хто постачальник вуликів?
B10: Скільки вуликів ви плануєте придбати?
B12: Яка порода бджіл буде розводитись?
B13: Хто постачальник бджолопакетів?
B14: Скільки бджолопакетів ви плануєте придбати?
B16: В наступній таблиці вкажіть інформацію щодо планів викачки меду на вашій пасіці. Якщо в певні місяці ви не плануєте медозбір, поставте 0. Якщо ви плануєте бортництво, вкажіть кількість колод та медозбір з однієї колоди.
B18: План викачки меду
B19: Період викачки | C19: Кількість вуликів | D19: Медозбір з 1 вулика, кг | E19: Всього, кг
B20: Травень - пасіка | E20: =C20*D20 -> 0
B21: Травень - бортництво | E21: =C21*D21 -> 0
B22: Червень - пасіка | E22: =C22*D22 -> 0
B23: Червень - бортництво | E23: =C23*D23 -> 0
B24: Липень - пасіка | E24: =C24*D24 -> 0
B25: Липень - бортництво | E25: =C25*D25 -> 0
B26: Серпень - пасіка | E26: =C26*D26 -> 0
B27: Серпень - бортництво | E27: =C27*D27 -> 0
B28: Вересень - пасіка | E28: =C28*D28 -> 0
B29: Вересень - бортництво | E29: 0
B30: Разом за сезон | C30: =C10 | D30: =E30/C30 -> #DIV/0! | E30: =SUM(E20:E29) -> 0
B32: Обладнання для пасіки, яке буде використовуватись довше, ніж 1 сезон
B33: Якщо вам потрібно додати інші види обладнання чи послуг - додайте у вільних рядках. Якщо ви не плануєте щось придбавати, або воно у вас є вже - поставте 0 по кількості та вартості у відповідному рядку.
B34: Перелік | C34: Кількість | D34: Ціна за 1, грн. | E34: Вартість загальна, грн.
B35: Вулики | E35: =C35*D35 -> 0
B36: Бджолопакети | E36: =C36*D36 -> 0
B37: Додаткові рамки | E37: =C37*D37 -> 0
B38: Годівниці | E38: =C38*D38 -> 0
B39: Поїлки | E39: =C39*D39 -> 0
B40: Захисний обяг для пасічника - комплект | E40: =C40*D40 -> 0
B41: Димар | E41: =C41*D41 -> 0
B42: Спеціальні ножі | E42: =C42*D42 -> 0
B43: Переносний ящик для рамок | E43: =C43*D43 -> 0
B44: Причеп для перевезення вуликів | E44: =C44*D44 -> 0
B45: Медогонка | E45: =C45*D45 -> 0
B46: Ємність для зберігання меду | E46: =C46*D46 -> 0
... B49: Фільтр | E49: =C49*D49 -> 0
...

Sheet Фінансовий план
B2: Фінансовий план
B4: Цей розділ узагальнює всі попередні розрахунки для визначення результатів роботи пасіки за перший рік. Ви можете також зробити прогноз, як змніться ці показники на другий рік проєкту.
B6: Показники | E6: Значення за 1-й рік | G6: Прогноз на 2-й рік
B7: Інвестиції на створення пасіки, грн. | E7: ='Виробничий план та витрати'!E53 -> 0
B8: Доходи від продажу продукції, грн. | E8: ='Маркетинговий план та доходи'!E38+'Маркетинговий план та доходи'!E49 -> 0
B9: Витрати на обслуговування пасіки за сезон, грн. | E9: ='Виробничий план та витрати'!E69+'Виробничий план та витрати'!E80 -> 0
B10: Фінансовий результат за рік від операційної діяльності, грн. | E10: =E8-E9 -> 0 | G10: =G8-G9 -> 0
B11: Рентабельнсть виробництва, % | E11: =E10/E9 -> #DIV/0! | G11: =G10/G9 -> #DIV/0!
B12: Окупність інвестицій, роки | E12: =E7/E10 -> #DIV/0! | G12: =G7/G10 -> #DIV/0!

Sheet Рух грош.коштів
A1: КАЛЕНДАРНИЙ ПЛАН РОБОТИ ПАСІКИ НА РІК
A2: Місяць | B2: 1 | C2: 2 | D2: 3 | E2: 4 | F2: 5 | G2: 6 | H2: 7 | I2: 8 | J2: 9 | K2: 10 | L2: 11 | M2: 12
B3: Січень | C3: Лютий | D3: Березень | E3: Квітень | F3: Травень | G3: Червень | H3: Липень | I3: Серпень | J3: Вересень | K3: Жовтень | L3: Листопад | M3: Грудень
A4: ОСНОВНА ДІЯЛЬНІСТЬ
A5: Стан пасіки | B5: Пасіки ще немає | C5: Пасіки ще немає | D5: Пасіки ще немає | E5: Пасіки ще немає | F5: Формування пасіки | G5: Початковий розвиток | H5: Стабілізація сімей | I5: Завершення активного сезону | J5: Підготовка до зимівлі | K5: Завершення робіт | L5: Зимовий спокій | M5: Зимівля
A6: Основні дії | B6: Вивчення основ бджільництва, вибір системи вуликів | C6: Планування кількості сімей, пошук постачальників | D6: Підготовка вуликів, рамок, місця для пасіки | E6: Узгодження строків купівлі бджолопакетів | F6: Придбання бджолопакетів, переселення у вулики | G6: Контроль матки, розплоду, поступове розширення гнізда | H6: Підтримка розвитку, контроль кормів | I6: Обов’язкова обробка від кліща Varroa destructor, оцінка сили сімей | J6: Формування гнізда, закладання кормів | K6: Контрольна (осіння) обробка від Varroa destructor , остаточна оцінка сімей | L6: Мінімальний контроль | M6: Спостереження без втручання
A7: БОРТНИЦТВО
A8: Основні роботи | B8: Зимовий спокій. Спостереження без втручання. | D8: Оцінка стану після зими. | E8: Обмежений весняний огляд. | F8: Підготовка нових колод. | G8: Роїння та заселення. | H8: Основний медозбір. | I8: Вересовий взяток (за наявності). | J8: Осінній відбір меду. | K8: Підготовка до зими. | L8: Контроль стану. | M8: Повний спокій.
A9: ПЛАН РУХУ ГРОШОВИХ КОШТІВ | N9: РАЗОМ
A10: Залишок коштів на початок періоду, грн | E10: =D18 -> 0 | F10: =E18 -> 0 | G10: =F18 -> 0 | H10: =G18 -> 0 | I10: =H18 -> 0 | J10: =I18 -> 0 | K10: =J18 -> 0 | L10: =K18 -> 0 | M10: =L18 -> 0 | N10: =B10 | O10: перевірка
A11: ДОХОДИ (осн.діяльність), грн | N11: =SUM(B11:M11) -> 0 | O11: Все вірно
A12: ДОХОДИ (бортництво), грн | N12: =SUM(B12:M12) -> 0
A13: ІНШІ ДЖЕРАЛА НАДХОДЖЕНЬ | N13: =SUM(B13:M13) -> 0
A14: РАЗОМ ДОХОДИ, грн | B14: =SUM(B11:B13) -> 0 | C14: =SUM(C11:C13) -> 0 | D14: =SUM(D11:D13) -> 0 | E14: =SUM(E11:E13) -> 0 | F14: =SUM(F11:F13) -> 0 | G14: =SUM(G11:G13) -> 0 | H14: =SUM(H11:H13) -> 0 | I14: =SUM(I11:I13) -> 0 | ... N14: =SUM(N11:N13) -> 0
A15: ВИТРАТИ (осн.діяльність), грн | N15: =SUM(B15:M15) -> 0 | O15: Все вірно
A16: ВИТРАТИ (бортництво), грн | N16: =SUM(B16:M16) -> 0
A17: РАЗОМ ВИТРАТИ, грн | B17: =SUM(B15:B16) -> 0 | C17: =SUM(C15:C16) -> 0 | D17: =SUM(D15:D16) -> 0 | E17: =SUM(E15:E16) -> 0 | F17: =SUM(F15:F16) -> 0 | G17: =SUM(G15:G16) -> 0 | H17: =SUM(H15:H16) -> 0 | I17: =SUM(I15:I16) -> 0 | ... M17: =SUM(M15:M16) -> 0 | N17: =SUM(B17:M17) -> 0
A18: Залишок коштів на кінець періоду, грн | B18: =B10+B14-B17 -> 0 | C18: =C10+C14-C17 -> 0 | D18: =D10+D14-D17 -> 0 | E18: =E10+E14-E17 -> 0 | F18: =F10+F14-F17 -> 0 | G18: =G10+G14-G17 -> 0 | H18: =H10+H14-H17 -> 0 | I18: =I10+I14-I17 -> 0 | ... N18: =N10+N14-N17 -> 0

Sheet Соціальний вплив
B1: Соціальний та екологічний вплив проєкту
B3: Матриця SWOT
B5: Рівні впливу | C5: Позитивний вплив | D5: Негативний вплив
B7: Напишіть, який вплив буде мати впровадження вашого проєкту на вашу громаду
B8: Напишіть, який вплив буде мати впровадження вашого проєкту на вразливі категорії населення
B9: Напишіть, який вплив буде мати впровадження вашого проєкту на навколишнє середовище

Sheet Управління ризиками
B1: Управління ризиками
B2: Заповніть таблицю (жовті комірки). Опишіть ризики, з якими може стикнутися ваш бізнес та інструменти, якими ви можете зменшити ці ризики. Наприклад, страхування, навчання, мережування, кооперація, тощо
B4: Аналіз ризиків
B6: Категорії ризиків | C6: Ризики | D6: Інструменти управління ризиками
B7: Зовнішні: залежать від політичної ситуації, зміни законодавства, ринкових умов тощо
B8: Внутрішні: залежать від ефективності роботи самого підприємця
